BEGIN:VCALENDAR
VERSION:2.0
PRODID:-//ZContent.net//ZapCalLib 1.0//EN
CALSCALE:GREGORIAN
METHOD:PUBLISH
BEGIN:VEVENT
SUMMARY:Jens Siegert - Wohin treibt Russland? | Szenarien für die Zeit dan
 ach
DTSTART:20250317T193000
DTEND:20250317T210000
UID:2026-04-24-12-28-38-0-@calendar.boell.de
DTSTAMP:20260424T102838
DESCRIPTION:▶ Siehe Veranstaltungsbeschreibung – Heidelberg – Heinric
 h Böll Stiftung Baden-Württemberg
END:VEVENT
END:VCALENDAR
