BEGIN:VCALENDAR
VERSION:2.0
PRODID:-//ZContent.net//ZapCalLib 1.0//EN
CALSCALE:GREGORIAN
METHOD:PUBLISH
BEGIN:VEVENT
SUMMARY:Jonas Lüscher | Verzauberte Vorbestimmung | Buchvorstellung mit L
 esung und Gespräch
DTSTART:20250312T190000
DTEND:20250312T203000
UID:2026-04-24-10-54-52-0-@calendar.boell.de
DTSTAMP:20260424T085452
DESCRIPTION:▶ Siehe Veranstaltungsbeschreibung – Heidelberg – Heinric
 h Böll Stiftung Baden-Württemberg
END:VEVENT
END:VCALENDAR
