BEGIN:VCALENDAR
VERSION:2.0
PRODID:-//ZContent.net//ZapCalLib 1.0//EN
CALSCALE:GREGORIAN
METHOD:PUBLISH
BEGIN:VEVENT
SUMMARY:Wasser. Klima. Gerechtigkeit | Bewegungskonferenz
DTSTART:20250321T130000
DTEND:20250323T160000
UID:2026-04-24-12-28-00-0-@calendar.boell.de
DTSTAMP:20260424T102800
DESCRIPTION:▶ Siehe Veranstaltungsbeschreibung – Köln – Externe Vera
 nstaltung
END:VEVENT
END:VCALENDAR
