BEGIN:VCALENDAR
VERSION:2.0
PRODID:-//ZContent.net//ZapCalLib 1.0//EN
CALSCALE:GREGORIAN
METHOD:PUBLISH
BEGIN:VEVENT
SUMMARY:BLACK FOREST – DENGLERS ELFTER FALL | Wolfgang Schorlau liest im 
 Rahmen der Stuttgarter Kriminächte
DTSTART:20250325T200000
DTEND:20250325T213000
UID:2026-04-25-03-31-06-0-@calendar.boell.de
DTSTAMP:20260425T013106
DESCRIPTION:▶ Siehe Veranstaltungsbeschreibung – Stuttgart – Heinrich
  Böll Stiftung Baden-Württemberg
END:VEVENT
END:VCALENDAR
