BEGIN:VCALENDAR
VERSION:2.0
PRODID:-//ZContent.net//ZapCalLib 1.0//EN
CALSCALE:GREGORIAN
METHOD:PUBLISH
BEGIN:VEVENT
SUMMARY:Ökologisches Engagement: Geht das nur die Jugend an? | Diskussions
 runde mit Léa Falco und Tobi Rosswog
DTSTART:20250313T190000
DTEND:20250313T210000
UID:2026-04-25-01-08-20-0-@calendar.boell.de
DTSTAMP:20260424T230820
DESCRIPTION:▶ Siehe Veranstaltungsbeschreibung – Stuttgart – Heinrich
  Böll Stiftung Baden-Württemberg
END:VEVENT
END:VCALENDAR
