BEGIN:VCALENDAR
VERSION:2.0
PRODID:-//ZContent.net//ZapCalLib 1.0//EN
CALSCALE:GREGORIAN
METHOD:PUBLISH
BEGIN:VEVENT
SUMMARY:â€žDas schwarze ChamÃ¤leonâ€œ  | Ãœbersetzer Robert Brack im GesprÃ
 ¤ch mit Autor Jake Lamar Ã¼ber seinen Kriminalroman 
DTSTART:20250213T200000
DTEND:20250213T220000
UID:2026-04-24-13-57-44-0-@calendar.boell.de
DTSTAMP:20260424T115744
DESCRIPTION:â–¶ Siehe Veranstaltungsbeschreibung â€“ Hamburg â€“ Landesstif
 tung Hamburg
END:VEVENT
END:VCALENDAR
