BEGIN:VCALENDAR
VERSION:2.0
PRODID:-//ZContent.net//ZapCalLib 1.0//EN
CALSCALE:GREGORIAN
METHOD:PUBLISH
BEGIN:VEVENT
SUMMARY:5. Runder Tisch Bildung für Nachhaltige Entwicklung in Sachsen-Anh
 alt | Vernetzung, Austausch und Weiterbildung
DTSTART:20250206T093000
DTEND:20250206T160000
UID:2026-04-23-20-25-06-0-@calendar.boell.de
DTSTAMP:20260423T182506
DESCRIPTION:▶ Siehe Veranstaltungsbeschreibung – Halle (Saale) – Land
 esstiftung Sachsen-Anhalt
END:VEVENT
END:VCALENDAR
