BEGIN:VCALENDAR
VERSION:2.0
PRODID:-//ZContent.net//ZapCalLib 1.0//EN
CALSCALE:GREGORIAN
METHOD:PUBLISH
BEGIN:VEVENT
SUMMARY:Alles im Fluss!? - Wasser in der Krise | Ausstellung in Berlin
DTSTART:20250108T090000
DTEND:20250205T200000
UID:2026-04-24-14-16-02-0-@calendar.boell.de
DTSTAMP:20260424T121602
DESCRIPTION:Heinrich-Böll-Stiftung - Bundesstiftung Berlin – Berlin – 
END:VEVENT
END:VCALENDAR
