BEGIN:VCALENDAR
VERSION:2.0
PRODID:-//ZContent.net//ZapCalLib 1.0//EN
CALSCALE:GREGORIAN
METHOD:PUBLISH
BEGIN:VEVENT
SUMMARY:Tagesfahrt nach Theresienstadt
DTSTART:20250517T080000
DTEND:20250517T190000
UID:2026-04-24-18-49-33-0-@calendar.boell.de
DTSTAMP:20260424T164933
DESCRIPTION:▶ Siehe Veranstaltungsbeschreibung – Chemnitz – Landessti
 ftung Sachsen (Weiterdenken)
END:VEVENT
END:VCALENDAR
