BEGIN:VCALENDAR
VERSION:2.0
PRODID:-//ZContent.net//ZapCalLib 1.0//EN
CALSCALE:GREGORIAN
METHOD:PUBLISH
BEGIN:VEVENT
SUMMARY:Lust auf einen kommunalen Spitzen-Job!? | Orientierung für die Kan
 didatur als (Ober)Bürgermeister*in / Landrät*in 
DTSTART:20250510T100000
DTEND:20250510T170000
UID:2026-04-23-20-24-34-0-@calendar.boell.de
DTSTAMP:20260423T182434
DESCRIPTION:Augsburg – Petra-Kelly-Stiftung
END:VEVENT
END:VCALENDAR
