BEGIN:VCALENDAR
VERSION:2.0
PRODID:-//ZContent.net//ZapCalLib 1.0//EN
CALSCALE:GREGORIAN
METHOD:PUBLISH
BEGIN:VEVENT
SUMMARY:Can Creativity Save the World? | aus der Reihe Klimakino 2024
DTSTART:20241204T190000
DTEND:20241204T210000
UID:2026-04-24-07-55-22-0-@calendar.boell.de
DTSTAMP:20260424T055522
DESCRIPTION:▶ Siehe Veranstaltungsbeschreibung – Hamburg – Landesstif
 tung Hamburg
END:VEVENT
END:VCALENDAR
