BEGIN:VCALENDAR
VERSION:2.0
PRODID:-//ZContent.net//ZapCalLib 1.0//EN
CALSCALE:GREGORIAN
METHOD:PUBLISH
BEGIN:VEVENT
SUMMARY:Ganz unten im System | Wie Migrant*innen unseren Wohlstand sichern
DTSTART:20241206T180000
DTEND:20241206T193000
UID:2026-04-25-01-36-16-0-@calendar.boell.de
DTSTAMP:20260424T233616
DESCRIPTION:Heinrich-Böll-Stiftung - Bundesstiftung Berlin – Berlin – 
 Heinrich-Böll-Stiftung - Bundesstiftung Berlin
END:VEVENT
END:VCALENDAR
