BEGIN:VCALENDAR
VERSION:2.0
PRODID:-//ZContent.net//ZapCalLib 1.0//EN
CALSCALE:GREGORIAN
METHOD:PUBLISH
BEGIN:VEVENT
SUMMARY:Wie können wir Gruppenprozesse demokratischer gestalten? | Grundla
 gen der beteiligungsorientierten Gruppenleitung für gesellschaftspolitisc
 h Engagierte
DTSTART:20250125T100000
DTEND:20250126T160000
UID:2026-04-25-15-47-31-0-@calendar.boell.de
DTSTAMP:20260425T134731
DESCRIPTION:▶ Siehe Veranstaltungsbeschreibung – Oberhausen – Landess
 tiftung Nordrhein-Westfalen
END:VEVENT
END:VCALENDAR
