BEGIN:VCALENDAR
VERSION:2.0
PRODID:-//ZContent.net//ZapCalLib 1.0//EN
CALSCALE:GREGORIAN
METHOD:PUBLISH
BEGIN:VEVENT
SUMMARY:Mit anderen Augen Se(h)en | Bildungsurlaub zum Thema Wasser an der 
 Mecklenburger Seenplatte
DTSTART:20250706T150000
DTEND:20250711T160000
UID:2026-04-23-05-29-41-0-@calendar.boell.de
DTSTAMP:20260423T032941
DESCRIPTION:▶ Siehe Veranstaltungsbeschreibung – Neustrelitz – Landes
 stiftung Hamburg
END:VEVENT
END:VCALENDAR
