BEGIN:VCALENDAR
VERSION:2.0
PRODID:-//ZContent.net//ZapCalLib 1.0//EN
CALSCALE:GREGORIAN
METHOD:PUBLISH
BEGIN:VEVENT
SUMMARY:Hannah Arendt: Alles Denken ist Nachdenken | Vortrag und Gespräch 
 mit Thomas Meyer (LMU München)
DTSTART:20241114T190000
DTEND:20241114T210000
UID:2026-04-25-04-44-29-0-@calendar.boell.de
DTSTAMP:20260425T024429
DESCRIPTION:Bremen – Landesstiftung Bremen
END:VEVENT
END:VCALENDAR
