BEGIN:VCALENDAR
VERSION:2.0
PRODID:-//ZContent.net//ZapCalLib 1.0//EN
CALSCALE:GREGORIAN
METHOD:PUBLISH
BEGIN:VEVENT
SUMMARY:VENA  | Filmgespräch
DTSTART:20241129T190000
DTEND:20241129T220000
UID:2026-04-25-01-00-58-0-@calendar.boell.de
DTSTAMP:20260424T230058
DESCRIPTION:▶ Siehe Veranstaltungsbeschreibung – Dresden – 
END:VEVENT
END:VCALENDAR
