BEGIN:VCALENDAR
VERSION:2.0
PRODID:-//ZContent.net//ZapCalLib 1.0//EN
CALSCALE:GREGORIAN
METHOD:PUBLISH
BEGIN:VEVENT
SUMMARY:Viel Lärm um nichts. Eine Wahrnehmungsgeschichte des Nichtstuns in
  der Bundesrepublik | Buchvorstellung mit PD Dr. Yvonne Robel
DTSTART:20241129T180000
DTEND:20241129T200000
UID:2026-04-26-04-41-28-0-@calendar.boell.de
DTSTAMP:20260426T024128
DESCRIPTION:▶ Siehe Veranstaltungsbeschreibung – Leipzig – Landesstif
 tung Sachsen (Weiterdenken)
END:VEVENT
END:VCALENDAR
