BEGIN:VCALENDAR
VERSION:2.0
PRODID:-//ZContent.net//ZapCalLib 1.0//EN
CALSCALE:GREGORIAN
METHOD:PUBLISH
BEGIN:VEVENT
SUMMARY:„SWEAT – Smells of Labour“ | Sandra Chatterjee & Friends
DTSTART:20241108T200000
DTEND:20241109T200000
UID:2026-04-23-11-53-55-0-@calendar.boell.de
DTSTAMP:20260423T095355
DESCRIPTION:München – Petra-Kelly-Stiftung
END:VEVENT
END:VCALENDAR
