BEGIN:VCALENDAR
VERSION:2.0
PRODID:-//ZContent.net//ZapCalLib 1.0//EN
CALSCALE:GREGORIAN
METHOD:PUBLISH
BEGIN:VEVENT
SUMMARY:"Holy Shit" | Gar nicht mal so scheiße – Ein Filmabend über das
  Potenzial menschlicher Exkremente
DTSTART:20241119T183000
DTEND:20241119T210000
UID:2026-04-24-16-34-51-0-@calendar.boell.de
DTSTAMP:20260424T143451
DESCRIPTION:Bremen – Landesstiftung Bremen
END:VEVENT
END:VCALENDAR
