BEGIN:VCALENDAR
VERSION:2.0
PRODID:-//ZContent.net//ZapCalLib 1.0//EN
CALSCALE:GREGORIAN
METHOD:PUBLISH
BEGIN:VEVENT
SUMMARY:Alles im Fluss?! Wasser in der Krise  | Ausstellung im Universität
 sklinikum Halle mit Auftaktveranstaltung und Führung
DTSTART:20241104T150000
DTEND:20241108T150000
UID:2026-04-25-01-01-06-0-@calendar.boell.de
DTSTAMP:20260424T230106
DESCRIPTION:Halle (Saale) – Landesstiftung Sachsen-Anhalt
END:VEVENT
END:VCALENDAR
