BEGIN:VCALENDAR
VERSION:2.0
PRODID:-//ZContent.net//ZapCalLib 1.0//EN
CALSCALE:GREGORIAN
METHOD:PUBLISH
BEGIN:VEVENT
SUMMARY:Georgia’s Hungarian Path: Continuation or Reversal After the Elec
 tions? | Boell Talks
DTSTART:20241024T123000
DTEND:20241024T133000
UID:2026-04-25-04-59-34-0-@calendar.boell.de
DTSTAMP:20260425T025934
DESCRIPTION:▶ Siehe Veranstaltungsbeschreibung – Heinrich-Böll-Stiftun
 g Tbilisi - Region Südkaukasus
END:VEVENT
END:VCALENDAR
