BEGIN:VCALENDAR
VERSION:2.0
PRODID:-//ZContent.net//ZapCalLib 1.0//EN
CALSCALE:GREGORIAN
METHOD:PUBLISH
BEGIN:VEVENT
SUMMARY:Streit ums Politische | Heinz Bude im GesprÃ¤ch mit Manuela BojadzÌ
 Œijev
DTSTART:20241118T193000
DTEND:20241118T213000
UID:2026-04-24-11-49-02-0-@calendar.boell.de
DTSTAMP:20260424T094902
DESCRIPTION:â–¶ Siehe Veranstaltungsbeschreibung â€“ Berlin â€“ Externe Ver
 anstaltung
END:VEVENT
END:VCALENDAR
