BEGIN:VCALENDAR
VERSION:2.0
PRODID:-//ZContent.net//ZapCalLib 1.0//EN
CALSCALE:GREGORIAN
METHOD:PUBLISH
BEGIN:VEVENT
SUMMARY:Transrechte in Zentralamerika | Wie können sie von Deutschland aus
  gestärkt werden?
DTSTART:20241120T183000
DTEND:20241120T201500
UID:2026-04-24-09-53-28-0-@calendar.boell.de
DTSTAMP:20260424T075328
DESCRIPTION:▶ Online-Veranstaltung – Heinrich-Böll-Stiftung - Bundesst
 iftung Berlin
END:VEVENT
END:VCALENDAR
