BEGIN:VCALENDAR
VERSION:2.0
PRODID:-//ZContent.net//ZapCalLib 1.0//EN
CALSCALE:GREGORIAN
METHOD:PUBLISH
BEGIN:VEVENT
SUMMARY:„Syltifizierung“ überall | Ringvorlesung "Gerechtes Wohnen in 
 Stadt und Land"
DTSTART:20250114T163000
DTEND:20250114T180000
UID:2026-04-25-01-00-06-0-@calendar.boell.de
DTSTAMP:20260424T230006
DESCRIPTION:▶ Online-Veranstaltung – Landesstiftung Sachsen (Weiterdenk
 en)
END:VEVENT
END:VCALENDAR
