BEGIN:VCALENDAR
VERSION:2.0
PRODID:-//ZContent.net//ZapCalLib 1.0//EN
CALSCALE:GREGORIAN
METHOD:PUBLISH
BEGIN:VEVENT
SUMMARY: Räumliche Gerechtigkeit unter dem Aspekt von Wohnversorgung und F
 lächenverbrauch - Prof. Dr. Manfred Miosga (Universität Bayreuth) | Ring
 vorlesung "Gerechtes Wohnen in Stadt und Land"
DTSTART:20241210T163000
DTEND:20241210T180000
UID:2026-04-24-03-25-30-0-@calendar.boell.de
DTSTAMP:20260424T012530
DESCRIPTION:▶ Online-Veranstaltung – Landesstiftung Sachsen (Weiterdenk
 en)
END:VEVENT
END:VCALENDAR
