BEGIN:VCALENDAR
VERSION:2.0
PRODID:-//ZContent.net//ZapCalLib 1.0//EN
CALSCALE:GREGORIAN
METHOD:PUBLISH
BEGIN:VEVENT
SUMMARY:Es geht auch anders! Visionen für eine Migrationspolitik der Zukun
 ft #Arbeit | im Gespräch mit Prof. Dr. Anne Lisa Carstensen
DTSTART:20241021T180000
DTEND:20241021T190000
UID:2026-04-24-13-57-55-0-@calendar.boell.de
DTSTAMP:20260424T115755
DESCRIPTION:▶ Online-Veranstaltung – Landesstiftung Sachsen-Anhalt
END:VEVENT
END:VCALENDAR
