BEGIN:VCALENDAR
VERSION:2.0
PRODID:-//ZContent.net//ZapCalLib 1.0//EN
CALSCALE:GREGORIAN
METHOD:PUBLISH
BEGIN:VEVENT
SUMMARY:Freiheit und Emanzipation | Effektive Allianzen und Partizipation g
 egen Menschenverachtung in Bildungskontexten
DTSTART:20241114T093000
DTEND:20241114T160000
UID:2026-04-24-21-32-40-0-@calendar.boell.de
DTSTAMP:20260424T193240
DESCRIPTION:▶ Siehe Veranstaltungsbeschreibung – Berlin – Landesstift
 ung Berlin (Bildungswerk)
END:VEVENT
END:VCALENDAR
