BEGIN:VCALENDAR
VERSION:2.0
PRODID:-//ZContent.net//ZapCalLib 1.0//EN
CALSCALE:GREGORIAN
METHOD:PUBLISH
BEGIN:VEVENT
SUMMARY:Fast Fashion  | Tanztheater mit Kleidertauschparty
DTSTART:20241004T190000
DTEND:20241004T210000
UID:2026-04-24-07-55-37-0-@calendar.boell.de
DTSTAMP:20260424T055537
DESCRIPTION:München – Petra-Kelly-Stiftung
END:VEVENT
END:VCALENDAR
