BEGIN:VCALENDAR
VERSION:2.0
PRODID:-//ZContent.net//ZapCalLib 1.0//EN
CALSCALE:GREGORIAN
METHOD:PUBLISH
BEGIN:VEVENT
SUMMARY:Geschichten des Friedens und der Selbstermächtigung        | Verni
 ssage und Podiumsdiskussion zur Ausstellung "Gesichter des Friedens"      
DTSTART:20241021T173000
DTEND:20241021T200000
UID:2026-04-23-13-52-27-0-@calendar.boell.de
DTSTAMP:20260423T115227
DESCRIPTION:Heinrich-Böll-Stiftung - Bundesstiftung Berlin – Berlin – 
END:VEVENT
END:VCALENDAR
