BEGIN:VCALENDAR
VERSION:2.0
PRODID:-//ZContent.net//ZapCalLib 1.0//EN
CALSCALE:GREGORIAN
METHOD:PUBLISH
BEGIN:VEVENT
SUMMARY:Sachsen & Thüringen – was nun? Bestandsaufnahme eine Woche nach 
 den Landtagswahlen | Digitaler Mittagstalk
DTSTART:20240909T120000
DTEND:20240909T130000
UID:2026-04-24-08-47-19-0-@calendar.boell.de
DTSTAMP:20260424T064719
DESCRIPTION:▶ Online-Veranstaltung – Heinrich-Böll-Stiftung - Bundesst
 iftung Berlin
END:VEVENT
END:VCALENDAR
