BEGIN:VCALENDAR
VERSION:2.0
PRODID:-//ZContent.net//ZapCalLib 1.0//EN
CALSCALE:GREGORIAN
METHOD:PUBLISH
BEGIN:VEVENT
SUMMARY:FÄLLT AUS! Erinnerungslücken und kritische Bildungsarbeit | Werks
 tattgespräch
DTSTART:20240926T130000
DTEND:20240926T170000
UID:2026-04-26-04-41-25-0-@calendar.boell.de
DTSTAMP:20260426T024125
DESCRIPTION:▶ Siehe Veranstaltungsbeschreibung – 
END:VEVENT
END:VCALENDAR
