BEGIN:VCALENDAR
VERSION:2.0
PRODID:-//ZContent.net//ZapCalLib 1.0//EN
CALSCALE:GREGORIAN
METHOD:PUBLISH
BEGIN:VEVENT
SUMMARY:Demokratisch auf dem Dorf | 4. Stark gegen rechts – Selbstbehaupt
 ungs-Training für Aktive auf dem Land
DTSTART:20241110T100000
DTEND:20241110T170000
UID:2026-04-25-03-08-32-0-@calendar.boell.de
DTSTAMP:20260425T010832
DESCRIPTION:▶ Siehe Veranstaltungsbeschreibung – Landesstiftung Thürin
 gen
END:VEVENT
END:VCALENDAR
