BEGIN:VCALENDAR
VERSION:2.0
PRODID:-//ZContent.net//ZapCalLib 1.0//EN
CALSCALE:GREGORIAN
METHOD:PUBLISH
BEGIN:VEVENT
SUMMARY:Demokratisch auf dem Dorf | 6.	Scheiße gelaufen? Erfahrungsaustaus
 ch zu Scheitern im Engagement - FÄLLT AUS
DTSTART:20241128T170000
DTEND:20241128T200000
UID:2026-04-25-04-08-32-0-@calendar.boell.de
DTSTAMP:20260425T020832
DESCRIPTION:▶ Siehe Veranstaltungsbeschreibung – Landesstiftung Thürin
 gen
END:VEVENT
END:VCALENDAR
