BEGIN:VCALENDAR
VERSION:2.0
PRODID:-//ZContent.net//ZapCalLib 1.0//EN
CALSCALE:GREGORIAN
METHOD:PUBLISH
BEGIN:VEVENT
SUMMARY:Argumentationstraining gegen Antifeminismus
DTSTART:20241121T170000
DTEND:20241121T200000
UID:2026-04-25-04-58-55-0-@calendar.boell.de
DTSTAMP:20260425T025855
DESCRIPTION:▶ Siehe Veranstaltungsbeschreibung – Nienburg – Antifemin
 ismus begegnen
END:VEVENT
END:VCALENDAR
