BEGIN:VCALENDAR
VERSION:2.0
PRODID:-//ZContent.net//ZapCalLib 1.0//EN
CALSCALE:GREGORIAN
METHOD:PUBLISH
BEGIN:VEVENT
SUMMARY:"ISTINA (Wahrheit)" | Filmgespräch mit der Regisseurin Tamara Deni
 ć
DTSTART:20240822T190000
DTEND:20240822T210000
UID:2026-04-25-17-49-27-0-@calendar.boell.de
DTSTAMP:20260425T154927
DESCRIPTION:▶ Siehe Veranstaltungsbeschreibung – Solingen – 
END:VEVENT
END:VCALENDAR
