BEGIN:VCALENDAR
VERSION:2.0
PRODID:-//ZContent.net//ZapCalLib 1.0//EN
CALSCALE:GREGORIAN
METHOD:PUBLISH
BEGIN:VEVENT
SUMMARY:Phoenix Festival | Wellness- und Demokratie Oase
DTSTART:20240731T120000
DTEND:20240815T180000
UID:2026-04-25-16-19-40-0-@calendar.boell.de
DTSTAMP:20260425T141940
DESCRIPTION:▶ Siehe Veranstaltungsbeschreibung – Erfurt – Landesstift
 ung Thüringen
END:VEVENT
END:VCALENDAR
