BEGIN:VCALENDAR
VERSION:2.0
PRODID:-//ZContent.net//ZapCalLib 1.0//EN
CALSCALE:GREGORIAN
METHOD:PUBLISH
BEGIN:VEVENT
SUMMARY:Petra Kelly – ACT NOW! | Film mit anschließendem Generationenges
 präch
DTSTART:20240923T183000
DTEND:20240923T203000
UID:2026-04-24-03-25-47-0-@calendar.boell.de
DTSTAMP:20260424T012547
DESCRIPTION:▶ Siehe Veranstaltungsbeschreibung – Erfurt – Landesstift
 ung Thüringen
END:VEVENT
END:VCALENDAR
