BEGIN:VCALENDAR
VERSION:2.0
PRODID:-//ZContent.net//ZapCalLib 1.0//EN
CALSCALE:GREGORIAN
METHOD:PUBLISH
BEGIN:VEVENT
SUMMARY:„Nur keine Angst vor Bestimmtheit“. Zur Kritik eines identitär
 en Gender-Begriffs
DTSTART:20240926T190000
DTEND:20240926T213000
UID:2026-04-26-04-41-29-0-@calendar.boell.de
DTSTAMP:20260426T024129
DESCRIPTION:▶ Siehe Veranstaltungsbeschreibung – Berlin – Landesstift
 ung Berlin (Bildungswerk)
END:VEVENT
END:VCALENDAR
