BEGIN:VCALENDAR
VERSION:2.0
PRODID:-//ZContent.net//ZapCalLib 1.0//EN
CALSCALE:GREGORIAN
METHOD:PUBLISH
BEGIN:VEVENT
SUMMARY:„Klassenbeste. Was von der Arbeit meiner Mutter bleibt“ | Lesun
 g und Gespräch mit Marlen Hobrack
DTSTART:20241008T193000
DTEND:20241008T210000
UID:2026-04-24-20-22-13-0-@calendar.boell.de
DTSTAMP:20260424T182213
DESCRIPTION:▶ Siehe Veranstaltungsbeschreibung – Rostock – Landesstif
 tung Mecklenburg-Vorpommern
END:VEVENT
END:VCALENDAR
