BEGIN:VCALENDAR
VERSION:2.0
PRODID:-//ZContent.net//ZapCalLib 1.0//EN
CALSCALE:GREGORIAN
METHOD:PUBLISH
BEGIN:VEVENT
SUMMARY:Sex - Wut - Volk | Antifeminismus und Rechtspopulismus - Gefährlic
 he Verbindungen
DTSTART:20240918T190000
DTEND:20240918T210000
UID:2026-04-24-20-38-13-0-@calendar.boell.de
DTSTAMP:20260424T183813
DESCRIPTION:▶ Siehe Veranstaltungsbeschreibung – Hamburg – Landesstif
 tung Hamburg
END:VEVENT
END:VCALENDAR
