BEGIN:VCALENDAR
VERSION:2.0
PRODID:-//ZContent.net//ZapCalLib 1.0//EN
CALSCALE:GREGORIAN
METHOD:PUBLISH
BEGIN:VEVENT
SUMMARY:Kann die Wirtschaft die Erde retten? | Mit der Gemeinwohl-Ökonomie
  unsere Naturressourcen bewahren
DTSTART:20240827T193000
DTEND:20240827T211500
UID:2026-04-24-06-41-25-0-@calendar.boell.de
DTSTAMP:20260424T044125
DESCRIPTION:▶ Siehe Veranstaltungsbeschreibung – Köln – Landesstiftu
 ng Nordrhein-Westfalen
END:VEVENT
END:VCALENDAR
