BEGIN:VCALENDAR
VERSION:2.0
PRODID:-//ZContent.net//ZapCalLib 1.0//EN
CALSCALE:GREGORIAN
METHOD:PUBLISH
BEGIN:VEVENT
SUMMARY:Interaktion, Partizipation und Gemeinschaftsgefühl im digitalen St
 uhlkreis  | Aufbau-Workshop für Personen mit ersten Kenntnissen/Erfahrung
 en zu Online-Veranstaltungen
DTSTART:20241120T163000
DTEND:20241120T200000
UID:2026-04-25-04-59-40-0-@calendar.boell.de
DTSTAMP:20260425T025940
DESCRIPTION:▶ Online-Veranstaltung – Heinrich Böll Stiftung Baden-Wür
 ttemberg
END:VEVENT
END:VCALENDAR
