BEGIN:VCALENDAR
VERSION:2.0
PRODID:-//ZContent.net//ZapCalLib 1.0//EN
CALSCALE:GREGORIAN
METHOD:PUBLISH
BEGIN:VEVENT
SUMMARY:Kantine "Zone" | Analyse und Kritik der DDR
DTSTART:20240722T140000
DTEND:20240727T223000
UID:2026-04-24-06-41-45-0-@calendar.boell.de
DTSTAMP:20260424T044145
DESCRIPTION:▶ Siehe Veranstaltungsbeschreibung – Chemnitz – Landessti
 ftung Sachsen (Weiterdenken)
END:VEVENT
END:VCALENDAR
