BEGIN:VCALENDAR
VERSION:2.0
PRODID:-//ZContent.net//ZapCalLib 1.0//EN
CALSCALE:GREGORIAN
METHOD:PUBLISH
BEGIN:VEVENT
SUMMARY:Zukunftsmut: gegen Angst & Krisen | Konferenz für Lehrkräfte, Bil
 dungsexpert*innen und Studierende
DTSTART:20240927T100000
DTEND:20240927T163000
UID:2026-04-26-04-41-09-0-@calendar.boell.de
DTSTAMP:20260426T024109
DESCRIPTION:▶ Siehe Veranstaltungsbeschreibung – Bielefeld – Landesst
 iftung Nordrhein-Westfalen
END:VEVENT
END:VCALENDAR
