BEGIN:VCALENDAR
VERSION:2.0
PRODID:-//ZContent.net//ZapCalLib 1.0//EN
CALSCALE:GREGORIAN
METHOD:PUBLISH
BEGIN:VEVENT
SUMMARY:Raus aus der AUTOkratie | Climate Care mit Katja Diehl, Doreen Frag
 el & Frithjof Look
DTSTART:20240814T200050
DTEND:20240814T213000
UID:2026-04-24-16-38-51-0-@calendar.boell.de
DTSTAMP:20260424T143851
DESCRIPTION:▶ Siehe Veranstaltungsbeschreibung – Göttingen – Stiftun
 g Leben & Umwelt / Heinrich-Böll-Stiftung Niedersachsen
END:VEVENT
END:VCALENDAR
