BEGIN:VCALENDAR
VERSION:2.0
PRODID:-//ZContent.net//ZapCalLib 1.0//EN
CALSCALE:GREGORIAN
METHOD:PUBLISH
BEGIN:VEVENT
SUMMARY:Demokratie in der Zwickmühle  | Gefahr des autoritären Populismus
DTSTART:20240705T190000
DTEND:20240705T210000
UID:2026-04-23-18-32-32-0-@calendar.boell.de
DTSTAMP:20260423T163232
DESCRIPTION:▶ Online-Veranstaltung – Heinrich Böll Stiftung Baden-Wür
 ttemberg
END:VEVENT
END:VCALENDAR
