BEGIN:VCALENDAR
VERSION:2.0
PRODID:-//ZContent.net//ZapCalLib 1.0//EN
CALSCALE:GREGORIAN
METHOD:PUBLISH
BEGIN:VEVENT
SUMMARY:Teatr-o-mat | Geschmack wählen
DTSTART:20240618T170000
DTEND:20240618T200000
UID:2026-04-24-09-43-40-0-@calendar.boell.de
DTSTAMP:20260424T074340
DESCRIPTION:Heinrich-Böll-Stiftung Thüringen – Landesstiftung Thüringe
 n
END:VEVENT
END:VCALENDAR
