BEGIN:VCALENDAR
VERSION:2.0
PRODID:-//ZContent.net//ZapCalLib 1.0//EN
CALSCALE:GREGORIAN
METHOD:PUBLISH
BEGIN:VEVENT
SUMMARY:Freund*innenschaften als politische Praxis | Lesung und Gespräch m
 it Bahar Oghalai & María do Mar Castro Varela 
DTSTART:20240315T180000
DTEND:20240315T200000
UID:2026-04-26-00-33-15-0-@calendar.boell.de
DTSTAMP:20260425T223315
DESCRIPTION:▶ Siehe Veranstaltungsbeschreibung – Dresden – 
END:VEVENT
END:VCALENDAR
