BEGIN:VCALENDAR
VERSION:2.0
PRODID:-//ZContent.net//ZapCalLib 1.0//EN
CALSCALE:GREGORIAN
METHOD:PUBLISH
BEGIN:VEVENT
SUMMARY:Das leere Grab | Film und Gespräch mit Ohiniko M. Toffa und Wiebke
  Ahrndt
DTSTART:20240530T200000
DTEND:20240530T220000
UID:2026-04-26-04-41-19-0-@calendar.boell.de
DTSTAMP:20260426T024119
DESCRIPTION:▶ Siehe Veranstaltungsbeschreibung – Bremen – Landesstift
 ung Bremen
END:VEVENT
END:VCALENDAR
