BEGIN:VCALENDAR
VERSION:2.0
PRODID:-//ZContent.net//ZapCalLib 1.0//EN
CALSCALE:GREGORIAN
METHOD:PUBLISH
BEGIN:VEVENT
SUMMARY:Parteieintritt jetzt?!
DTSTART:20240604T190000
DTEND:20240604T203000
UID:2026-04-25-04-59-28-0-@calendar.boell.de
DTSTAMP:20260425T025928
DESCRIPTION:▶ Siehe Veranstaltungsbeschreibung – Rostock – Landesstif
 tung Mecklenburg-Vorpommern
END:VEVENT
END:VCALENDAR
